BEGIN:VCALENDAR
VERSION:2.0
METHOD:PUBLISH
PRODID:-//hacksw/handcal//NONSGML v1.0//EN
BEGIN:VEVENT
DTSTAMP:20260422T051331Z
DTSTART:20210828T183000Z
DTEND:20210828T193000Z
UID:20210828T183000Z-20210828T193000Z-176@handiclapped-berlin.de
SUMMARY:Was bedeutet Erfolg? - Diskussion im Rahmen des Pop-Kultur Fes
 tivals
DESCRIPTION:Fotos: Tom Leather (Lucy Wilke)\, Luis Lyrisch (Luis Lyris
 ch)\, Peter Mandel (Peter Mandel)\, Sandra Ahlers (Graf Fidi)\n\n\n\nZ
 usammen mit dem MusicBoard Berlin laden wir Euch herzlich ein.\nZu die
 ser Diskussion:\nPerspektivenwechsel durch Kunst und Musik:\nWas bedeu
 tet Erfolg für dich?\n\n\nGraf Fidi spricht mit Lucy Wilke\, Luis Lyri
 sch und Peter Mandel\n\n\n\nWas heißt\, Erfolg für Menschen\, die im K
 ulturbereich tätig sind?\nZählen nur Geld und Zuschauerzahlen?\nWie se
 hen das verschiedene Musiker:innen mit Behinderung?\nWelche Hürden hab
 en Sie zu bewältigen?\n\nÜber diese Fragen sprechen verschiedene Kultu
 rschaffende.\nGraf Fidi leitet die Unterhaltung.\nEr ist Rapper\, Song
 writer\, Inklusionsbotschafter und vieles mehr.\nIhr kennt ihn von uns
 eren Konzerten.\n\nEr spricht mit:\n\n 	Schauspielerin und Songwriteri
 n Lucy Wilke\nSie spielt unter anderem beim Duo blind & lame .\nDas Du
 o tritt auch auf dem Pop-Kultur Festival auf.\n 	MC Luis Lyrisch\, Rap
 per und Musiker\nEr spielt als Solo-Künstler und beim DJ Kollektiv Sup
 a Star Soundsystem.\n 	Peter Mandel\nMitbegründer und Projektleiter vo
 n Handiclapped-Kultur Barrierefrei e.V.\n\n\n\n\nHier findet Ihr mehr 
 Informationen:\nVeranstaltung auf der Pop-Kultur Internet Seite \nTick
 ets könnt Ihr hier buchen:\nLink zur Ticket-Buchung für das Pop-Kultur
  Festival
X-ALT-DESC;FMTTYPE=text/html:<div class=SingleArtistName>\n<p><em><spa
 n style=color: #333333>Fotos: Tom Leather (Lucy Wilke)\, Luis Lyrisch 
 (Luis Lyrisch)\, Peter Mandel (Peter Mandel)\, Sandra Ahlers (Graf Fid
 i)</span></em></p>\n<hr />\n<p>\nZusammen mit dem MusicBoard Berlin la
 den wir Euch herzlich ein.<br>\nZu dieser Diskussion:</p>\n<h3>&#8220\
 ;Perspektivenwechsel durch Kunst und Musik:<br>\nWas bedeutet Erfolg f
 ür dich?&#8221\;</h3>\n</div>\n<div></div>\n<div class=SingleArtistSub
 ><strong>Graf Fidi spricht mit Lucy Wilke\, Luis Lyrisch und Peter Man
 del</strong></div>\n<div class=SingleWorkTitle></div>\n<div><br>\nWas 
 heißt\, Erfolg für Menschen\, die im Kulturbereich tätig sind?<br>\nZä
 hlen nur Geld und Zuschauerzahlen?<br>\nWie sehen das verschiedene Mus
 iker:innen mit Behinderung?<br>\nWelche Hürden haben Sie zu bewältigen
 ?</p>\n<p>Über diese Fragen sprechen verschiedene Kulturschaffende.<br
 >\nGraf Fidi leitet die Unterhaltung.<br>\nEr ist Rapper\, Songwriter\
 , Inklusionsbotschafter und vieles mehr.<br>\nIhr kennt ihn von unsere
 n Konzerten.</p>\n<p>Er spricht mit:</p>\n<ul>\n<li>Schauspielerin und
  Songwriterin Lucy Wilke<br>\nSie spielt unter anderem beim Duo blind 
 &amp\; lame .<br>\nDas Duo tritt auch auf dem Pop-Kultur Festival auf.
 </li>\n<li>MC Luis Lyrisch\, Rapper und Musiker<br>\nEr spielt als Sol
 o-Künstler und beim DJ Kollektiv Supa Star Soundsystem.</li>\n<li>Pete
 r Mandel<br>\nMitbegründer und Projektleiter von Handiclapped-Kultur B
 arrierefrei e.V.</li>\n</ul>\n<hr />\n<h3>Hier findet Ihr mehr Informa
 tionen:</h3>\n<p><a href=https://www.pop-kultur.berlin/artists/perspek
 tivenwechsel-durch-kunst-und-musik-was-bedeutet-erfolg-fuer-dich-de/>V
 eranstaltung auf der Pop-Kultur Internet Seite </a></p>\n<h3>Tickets k
 önnt Ihr hier buchen:</h3>\n<div><a href=https://pop-kultur-berlin.res
 ervix.de/events target=_blank rel=noopener aria-label=Tickets Shop>Lin
 k zur Ticket-Buchung für das Pop-Kultur Festival</a></div>\n</div>\n
URL:https://handiclapped-berlin.de/termine/talk-perspektivenwechsel-du
 rch-musik-was-bedeutet-erfolg-fuer-dich/?lang=de
ATTACH:https://handiclapped-berlin.de/termine/talk-perspektivenwechsel
 -durch-musik-was-bedeutet-erfolg-fuer-dich/?lang=de
ATTACH:https://handiclapped-berlin.de/wp-content/uploads/2021/07/PK21-
 Perspektivenwechsel-665x360.jpg
LOCATION:Frannz Club - im Rahmen des Pop-Kultur Festivals\, \,
END:VEVENT
END:VCALENDAR
