BEGIN:VCALENDAR
VERSION:2.0
METHOD:PUBLISH
PRODID:-//hacksw/handcal//NONSGML v1.0//EN
BEGIN:VEVENT
DTSTAMP:20260423T235558Z
DTSTART:20170407T160000Z
DTEND:20170407T190000Z
UID:20170407T160000Z-20170407T190000Z-28@handiclapped-berlin.de
SUMMARY:Handiclapped HIP HOP OFFENSIVE IX
DESCRIPTION:[pdf height=870]https://www.handiclapped-berlin.de/wp/wp-c
 ontent/uploads/2017/03/7.4.17-2.pdf[/pdf]
X-ALT-DESC;FMTTYPE=text/html:<p>[pdf height=870]https://www.handiclapp
 ed-berlin.de/wp/wp-content/uploads/2017/03/7.4.17-2.pdf[/pdf]</p>\n
URL:https://handiclapped-berlin.de/termine/28/handiclapped-hip-hop-off
 ensive-ix/?lang=de
ATTACH:https://handiclapped-berlin.de/termine/28/handiclapped-hip-hop-
 offensive-ix/?lang=de
END:VEVENT
END:VCALENDAR
