BEGIN:VCALENDAR
VERSION:2.0
METHOD:PUBLISH
PRODID:-//hacksw/handcal//NONSGML v1.0//EN
BEGIN:VEVENT
DTSTAMP:20260423T234952Z
DTSTART:20170517T160000Z
DTEND:20170517T183000Z
UID:20170517T160000Z-20170517T183000Z-32@handiclapped-berlin.de
SUMMARY:Großer kubanischer Abend
DESCRIPTION:[pdf height=870]https://www.handiclapped-berlin.de/wp/wp-c
 ontent/uploads/2017/03/17.5..pdf[/pdf]
X-ALT-DESC;FMTTYPE=text/html:<p>[pdf height=870]https://www.handiclapp
 ed-berlin.de/wp/wp-content/uploads/2017/03/17.5..pdf[/pdf]</p>\n
URL:https://handiclapped-berlin.de/termine/32/grosser-kubanischer-aben
 d/?lang=de
ATTACH:https://handiclapped-berlin.de/termine/32/grosser-kubanischer-a
 bend/?lang=de
END:VEVENT
END:VCALENDAR
