BEGIN:VCALENDAR
VERSION:2.0
METHOD:PUBLISH
PRODID:-//hacksw/handcal//NONSGML v1.0//EN
BEGIN:VEVENT
DTSTAMP:20260421T025331Z
DTSTART:20170609T160000Z
DTEND:20170609T190000Z
UID:20170609T160000Z-20170609T190000Z-38@handiclapped-berlin.de
SUMMARY:Inklusion rockt !
DESCRIPTION:[pdf height=870]https://www.handiclapped-berlin.de/wp/wp-c
 ontent/uploads/2017/05/9.6.pdf[/pdf]
X-ALT-DESC;FMTTYPE=text/html:<p>[pdf height=870]https://www.handiclapp
 ed-berlin.de/wp/wp-content/uploads/2017/05/9.6.pdf[/pdf]</p>\n
URL:https://handiclapped-berlin.de/termine/38/inklusion-rockt/?lang=de
ATTACH:https://handiclapped-berlin.de/termine/38/inklusion-rockt/?lang
 =de
END:VEVENT
END:VCALENDAR
