BEGIN:VCALENDAR
VERSION:2.0
METHOD:PUBLISH
PRODID:-//hacksw/handcal//NONSGML v1.0//EN
BEGIN:VEVENT
DTSTAMP:20260424T184001Z
DTSTART:20170705T160000Z
DTEND:20170705T183000Z
UID:20170705T160000Z-20170705T183000Z-39@handiclapped-berlin.de
SUMMARY:Inklusion rockt !
DESCRIPTION:[pdf height=870]https://www.handiclapped-berlin.de/wp/wp-c
 ontent/uploads/2017/05/Flyer-5.7..pdf[/pdf]\n\n \n\n 
X-ALT-DESC;FMTTYPE=text/html:<p>[pdf height=870]https://www.handiclapp
 ed-berlin.de/wp/wp-content/uploads/2017/05/Flyer-5.7..pdf[/pdf]</p>\n<
 p>&nbsp\;</p>\n<p>&nbsp\;</p>\n
URL:https://handiclapped-berlin.de/termine/39/inklusion-rockt/?lang=de
ATTACH:https://handiclapped-berlin.de/termine/39/inklusion-rockt/?lang
 =de
LOCATION:Pfefferberg Haus 13\, Schönhauser Allee 176\, Berlin
END:VEVENT
END:VCALENDAR
