BEGIN:VCALENDAR
VERSION:2.0
METHOD:PUBLISH
PRODID:-//hacksw/handcal//NONSGML v1.0//EN
BEGIN:VEVENT
DTSTAMP:20260425T173159Z
DTSTART;VALUE=DATE:20170708
DTEND;VALUE=DATE:20171015
UID:20170707T220000Z-20171014T215959Z-42@handiclapped-berlin.de
SUMMARY:Programm und Anmeldung in leichter Sprache
DESCRIPTION:[pdf height=870]https://www.handiclapped-berlin.de/wp/wp-c
 ontent/uploads/2017/08/Programm-in-leichter-Sprache-und-Anmeldung.pdf[
 /pdf]
X-ALT-DESC;FMTTYPE=text/html:<p>[pdf height=870]https://www.handiclapp
 ed-berlin.de/wp/wp-content/uploads/2017/08/Programm-in-leichter-Sprach
 e-und-Anmeldung.pdf[/pdf]</p>\n
URL:https://handiclapped-berlin.de/termine/42/programm-und-anmeldung-i
 n-leichter-sprache/?lang=de
ATTACH:https://handiclapped-berlin.de/termine/42/programm-und-anmeldun
 g-in-leichter-sprache/?lang=de
END:VEVENT
END:VCALENDAR
