BEGIN:VCALENDAR
VERSION:2.0
METHOD:PUBLISH
PRODID:-//hacksw/handcal//NONSGML v1.0//EN
BEGIN:VEVENT
DTSTAMP:20260421T144208Z
DTSTART:20260702T130000Z
DTEND:20260702T140000Z
UID:20260702T130000Z-20260702T140000Z-507@handiclapped-berlin.de
SUMMARY:Handiclapped präsentiert: Inklusion rockt ! 66. Radiosendung a
 uf rockradio.de (Kopie)
DESCRIPTION:Unsere  64. Radiosendung auf Rockradio:\nLive am Donnersta
 g\, 2.7.2026 von 15:00 bis 16:00 Uhr\nWiederholung am 16.7.2026 von 15
 :00 bis 16:00 Uhr\n\nAm Mikro: Klaus und Jana\n\nHier geht es dann zur
  Sendung auf rockradio.de
X-ALT-DESC;FMTTYPE=text/html:<p>Unsere  64. Radiosendung auf Rockradio
 :<br>\nLive am Donnerstag\, 2.7.2026 von 15:00 bis 16:00 Uhr<br>\nWied
 erholung am 16.7.2026 von 15:00 bis 16:00 Uhr</p>\n<p>Am Mikro: Klaus 
 und Jana</p>\n<p><a href=http://www.rockradio.de/>Hier geht es dann zu
 r Sendung auf rockradio.de</a></p>\n
URL:https://handiclapped-berlin.de/termine/handiclapped-praesentiert-i
 nklusion-rockt-66-radiosendung-auf-rockradio-de-kopie/?lang=de
ATTACH:https://handiclapped-berlin.de/termine/handiclapped-praesentier
 t-inklusion-rockt-66-radiosendung-auf-rockradio-de-kopie/?lang=de
ATTACH:https://handiclapped-berlin.de/wp-content/uploads/2025/06/Radio
 sendung-mit-Lotto.png
END:VEVENT
END:VCALENDAR
