BEGIN:VCALENDAR
VERSION:2.0
METHOD:PUBLISH
PRODID:-//hacksw/handcal//NONSGML v1.0//EN
BEGIN:VEVENT
DTSTAMP:20260421T144408Z
DTSTART;VALUE=DATE:20260702
DTEND;VALUE=DATE:20260706
UID:20260701T220000Z-20260705T215959Z-519@handiclapped-berlin.de
SUMMARY:Best of 10 seasons Unpluggedival - Festival vom 2. bis 5. Juli
DESCRIPTION:Festival mit vielen inklusiven Bands\, Chören und Solo-Mus
 iker:innen.\n\nUnter anderem mit dabei:\n\n 	Petti West\n 	Shtetldik\n
  	Franziskas Erben\n 	Faith MC\n\nMehr Infos folgen in Kürze.\n\nWebse
 ite des Unpluggedival
X-ALT-DESC;FMTTYPE=text/html:<p>Festival mit vielen inklusiven Bands\,
  Chören und Solo-Musiker:innen.</p>\n<p>Unter anderem mit dabei:</p>\n
 <ul>\n<li><strong>Petti West</strong></li>\n<li><strong>Shtetldik</str
 ong></li>\n<li><strong>Franziskas Erben</strong></li>\n<li><strong>Fai
 th MC</strong></li>\n</ul>\n<p>Mehr Infos folgen in Kürze.</p>\n<p><st
 rong><a href=https://www.unpluggedival.de/>Webseite des Unpluggedival<
 /a></strong></p>\n
URL:https://handiclapped-berlin.de/termine/unpluggedival26/?lang=de
ATTACH:https://handiclapped-berlin.de/termine/unpluggedival26/?lang=de
ATTACH:https://handiclapped-berlin.de/wp-content/uploads/2024/08/Bilds
 chirmfoto_27-8-2024_21137_www.unpluggedival.de_-1-665x194.jpeg
LOCATION:Unpluggedival\, Florakiez Pankow\, Berlin
END:VEVENT
END:VCALENDAR
